BEGIN:VCALENDAR
VERSION:2.0
PRODID:-//SICTIC //NONSGML Events //EN
CALSCALE:GREGORIAN
X-WR-CALNAME:SICTIC
BEGIN:VEVENT
CREATED:20220311T143754Z
UID:11965
DTEND:20220503T203000
DTSTART:20220503T170000
DTSTAMP:20260423T033528Z
LOCATION:Geneva Chamber of Commerce\, Industry & Services 4\, boulevard du Théâtre\, 1204 Geneva
DESCRIPTION:The SICTIC Investor Day is a matchmaking event where tech startups pitch for funding in front of experienced investors and supporters. The event language is English. Questions from the audience are also taken in French and German (and translated if necessary). Please note that this will be a hybrid event, so you can either choose to join on-site or from the comfort of your home. On-site tickets are limited and...
SUMMARY:98th SICTIC Investor Day @ Geneva
URL;VALUE=URI:https://www.sictic.ch/events/98/
TRANSP:OPAQUE
BEGIN:VALARM
ACTION:DISPLAY
TRIGGER;VALUE=DATE-TIME:20220503T170000
DESCRIPTION:Reminder for 98th SICTIC Investor Day @ Geneva
END:VALARM
END:VEVENT
END:VCALENDAR
