BEGIN:VCALENDAR
VERSION:2.0
PRODID:-//SICTIC //NONSGML Events //EN
CALSCALE:GREGORIAN
X-WR-CALNAME:SICTIC
BEGIN:VEVENT
CREATED:20230203T092121Z
UID:13302
DTEND:20230316T203000
DTSTART:20230316T170000
DTSTAMP:20260425T121705Z
LOCATION:Google EURF\, Forum Escher\, Europaallee 36\, 8004 Zürich
DESCRIPTION:The SICTIC Investor Day is a matchmaking event where tech startups pitch for funding in front of experienced investors and supporters. We are incredibly excited to welcome Dr. Serg Bell as our keynote speaker. Dr. Serg Bell is a tech entrepreneur, investor and executive. He founded two dozen global IT companies, a number of venture funds and several science and education centers, including Constructor group (formerly known as SIT), Acronis,...
SUMMARY:107th SICTIC Investor Day @ Google\, Zurich
URL;VALUE=URI:https://www.sictic.ch/events/sid23google/
TRANSP:OPAQUE
BEGIN:VALARM
ACTION:DISPLAY
TRIGGER;VALUE=DATE-TIME:20230316T170000
DESCRIPTION:Reminder for 107th SICTIC Investor Day @ Google\, Zurich
END:VALARM
END:VEVENT
END:VCALENDAR
