BEGIN:VCALENDAR
VERSION:2.0
PRODID:-//SICTIC //NONSGML Events //EN
CALSCALE:GREGORIAN
X-WR-CALNAME:SICTIC
BEGIN:VEVENT
CREATED:20250410T112037Z
UID:17462
DTEND:20250916T200000
DTSTART:20250916T170000
DTSTAMP:20260421T194254Z
LOCATION:NEST Empa  129 Ueberlandstrasse 8600 Dübendorf
DESCRIPTION:Powering the Future: SICTIC Investor Day at NEST Empa On September 16th, SICTIC Investor Day lands at NEST Empa in Dübendorf - Switzerland’s living lab for sustainable construction and energy innovation. This EnergyTech-focused event brings together forward-looking investors and startups working at the forefront of the energy transition. &nbsp; What to Expect: High-Potential Startup Pitches: Meet cutting-edge EnergyTech startups tackling challenges in energy efficiency, storage, and sustainable infrastructure. Networking with...
SUMMARY:144th SICTIC Investor Day @ NEST Empa\, Dübendorf
URL;VALUE=URI:https://www.sictic.ch/events/sid144/
TRANSP:OPAQUE
BEGIN:VALARM
ACTION:DISPLAY
TRIGGER;VALUE=DATE-TIME:20250916T170000
DESCRIPTION:Reminder for 144th SICTIC Investor Day @ NEST Empa\, Dübendorf
END:VALARM
END:VEVENT
END:VCALENDAR
