BEGIN:VCALENDAR
VERSION:2.0
PRODID:-//SICTIC //NONSGML Events //EN
CALSCALE:GREGORIAN
X-WR-CALNAME:SICTIC
BEGIN:VEVENT
CREATED:20250512T185303Z
UID:17645
DTEND:20250604T140000
DTSTART:20250604T103000
DTSTAMP:20260425T205509Z
LOCATION:Saletta LAGO  Hotel Splendide Royal – Lugano  Riva Antonio Caccia 7 – 6900 Lugano
DESCRIPTION:Angel investing in the age of AI Join us for a SICTIC roundtable followed by a lunch with our Lugano angel investor community. Have you ever thought about investing in technology startups and don’t really know what the possibilities are, what to look out for, and what the experiences of others are? Together with the Fondazione AGIRE, SICTIC is hosting an exclusive SICTIC roundtable followed by a lunch, during which...
SUMMARY:SICTIC Angel Angel Roundtable: Angel Investing in the age of AI &#8211\; Lugano
URL;VALUE=URI:https://www.sictic.ch/events/lunch-lugano-250604/
TRANSP:OPAQUE
BEGIN:VALARM
ACTION:DISPLAY
TRIGGER;VALUE=DATE-TIME:20250604T103000
DESCRIPTION:Reminder for SICTIC Angel Angel Roundtable: Angel Investing in the age of AI &#8211\; Lugano
END:VALARM
END:VEVENT
END:VCALENDAR
