BEGIN:VCALENDAR
VERSION:2.0
PRODID:-//SICTIC //NONSGML Events //EN
CALSCALE:GREGORIAN
X-WR-CALNAME:SICTIC
BEGIN:VEVENT
CREATED:20250730T073114Z
UID:18003
DTEND:20251201T210000
DTSTART:20251201T160000
DTSTAMP:20260419T132317Z
LOCATION:UBS Konferenzgebäude Grünenhof\, Nüschelerstrasse 9\, 8001 Zürich
DESCRIPTION:Swiss Fintech &amp; AI Investor Day (SFID), organized by SICTIC, stands as Switzerland’s leading Fintech funding platform and the premier gathering for innovators, investors, and key partners shaping the future of finance. Each year, SFID attracts a dynamic network of active investors—many with deep expertise and focus in Fintech—creating unparalleled opportunities for collaboration, networking, and deal-making. This year’s conference spotlights the entire journey of Fintech innovation, focusing on supporting startups...
SUMMARY:Swiss Fintech &#038\; AI Investor Day (SFID) 2025
URL;VALUE=URI:https://www.sictic.ch/events/sfid/
TRANSP:OPAQUE
BEGIN:VALARM
ACTION:DISPLAY
TRIGGER;VALUE=DATE-TIME:20251201T160000
DESCRIPTION:Reminder for Swiss Fintech &#038\; AI Investor Day (SFID) 2025
END:VALARM
END:VEVENT
END:VCALENDAR
