BEGIN:VCALENDAR
VERSION:2.0
PRODID:-//SICTIC //NONSGML Events //EN
CALSCALE:GREGORIAN
X-WR-CALNAME:SICTIC
BEGIN:VEVENT
CREATED:20260417T161656Z
UID:19643
DTEND:20260610T193000
DTSTART:20260610T173000
DTSTAMP:20260423T002402Z
LOCATION:Pictet\, Chemin des Charmettes 2\, Case postale 138\, 1003 Lausanne
DESCRIPTION:Startup Journey for Angel Investors: From Investment to Exits - SICTIC Investor Academy This event is open for for SICTIC investors and Pictet guests only, with limited seating for 30 guests. There's plenty of opportunity for Q&amp;A and discussions at the workshop. Speakers: Dr. Bolko Hohaus, Vice President at SICTIC ​Marcel Egger, Board Member at SICTIC ​Yunus Erduran, SICTIC Ambassador ​​Niklas Van Neyghem, Entrepreneur & Investor &nbsp; Swiss Angel Investor...
SUMMARY:Startup Journey for Angel Investors: From Investment to Exits &#8211\; SICTIC Investor Academy &#8211\; Lausanne
URL;VALUE=URI:https://www.sictic.ch/events/masterclass-lausannne-june10/
TRANSP:OPAQUE
BEGIN:VALARM
ACTION:DISPLAY
TRIGGER;VALUE=DATE-TIME:20260610T173000
DESCRIPTION:Reminder for Startup Journey for Angel Investors: From Investment to Exits &#8211\; SICTIC Investor Academy &#8211\; Lausanne
END:VALARM
END:VEVENT
END:VCALENDAR
