BEGIN:VCALENDAR
VERSION:2.0
PRODID:-//SICTIC //NONSGML Events //EN
CALSCALE:GREGORIAN
X-WR-CALNAME:SICTIC
BEGIN:VEVENT
CREATED:20260417T175952Z
UID:19648
DTEND:20260506T203000
DTSTART:20260506T173000
DTSTAMP:20260423T002438Z
LOCATION:Chemin des Mines 2 Sécheron\, Geneva\, GE\, 1202\, CHE
DESCRIPTION:SICTIC Investor Academy - Angel Investment in Startups This event is open for SICTIC investors, available onsite only, with limited seating for 20 guests. There's plenty of opportunity for Q&amp;A and discussions at the workshop. Speakers: Dr. Bolko Hohaus, Vice President at SICTIC ​Yunus Erduran, SICTIC Ambassador Investment in Startups 4.1 Startup Investment Strategies 4.2 Portfolio Approach 4.3 Investment Process 4.4 Lead Investor and Co-Investors 4.5 Follow-On Investments 4.6 Investment...
SUMMARY:Angel Investment in Startups &#8211\; SICTIC Academy Masterclass &#8211\; Geneva
URL;VALUE=URI:https://www.sictic.ch/events/masterclass-geneva-may6/
TRANSP:OPAQUE
BEGIN:VALARM
ACTION:DISPLAY
TRIGGER;VALUE=DATE-TIME:20260506T173000
DESCRIPTION:Reminder for Angel Investment in Startups &#8211\; SICTIC Academy Masterclass &#8211\; Geneva
END:VALARM
END:VEVENT
END:VCALENDAR
