BEGIN:VCALENDAR
VERSION:2.0
PRODID:-//SICTIC //NONSGML Events //EN
CALSCALE:GREGORIAN
X-WR-CALNAME:SICTIC
BEGIN:VEVENT
CREATED:20260422T161746Z
UID:19689
DTEND:20260513T143000
DTSTART:20260513T140000
DTSTAMP:20260423T002407Z
LOCATION:
DESCRIPTION:Ask Me Anything about SICTIC with Steffen Ehrhardt. Have questions about SICTIC? Curious how things work, how to get involved, or how startups and investors can best connect with the community? Join Steffen Ehrhardt for a relaxed 30-minute Ask Me Anything session. This call is open to startups, investors, and community members and is shaped entirely by your questions. Come prepared with what you would like to ask, or simply...
SUMMARY:Ask Me Anything about SICTIC
URL;VALUE=URI:https://www.sictic.ch/events/ama/
TRANSP:OPAQUE
BEGIN:VALARM
ACTION:DISPLAY
TRIGGER;VALUE=DATE-TIME:20260513T140000
DESCRIPTION:Reminder for Ask Me Anything about SICTIC
END:VALARM
END:VEVENT
END:VCALENDAR
