BEGIN:VCALENDAR
VERSION:2.0
PRODID:-//SICTIC //NONSGML Events //EN
CALSCALE:GREGORIAN
X-WR-CALNAME:SICTIC
BEGIN:VEVENT
CREATED:20180224T094526Z
UID:2095
DTEND:20160622T203000
DTSTART:20160622T161500
DTSTAMP:20260425T175715Z
LOCATION: Impact Hub Zürich - Viadukt\, Viaduktstrasse 93-95\, Zürich
DESCRIPTION:The SICTIC Investor Day is a match making event where tech startups pitch to find experienced investors and supporters. The event language is English. Questions from the audience are also taken in French and German (and translated if necessary). &nbsp;
SUMMARY:26th SICTIC Investor Day @ Zurich
URL;VALUE=URI:https://www.sictic.ch/events/26/
TRANSP:OPAQUE
BEGIN:VALARM
ACTION:DISPLAY
TRIGGER;VALUE=DATE-TIME:20160622T161500
DESCRIPTION:Reminder for 26th SICTIC Investor Day @ Zurich
END:VALARM
END:VEVENT
END:VCALENDAR
