BEGIN:VCALENDAR
VERSION:2.0
PRODID:-//SICTIC //NONSGML Events //EN
CALSCALE:GREGORIAN
X-WR-CALNAME:SICTIC
BEGIN:VEVENT
CREATED:20180224T135338Z
UID:2127
DTEND:20170608T203000
DTSTART:20170608T161500
DTSTAMP:20260422T022503Z
LOCATION:Hotel Lugano Dante Center\, Piazza Cioccaro\, Lugano\, Switzerland
DESCRIPTION:The SICTIC Investor Day is a match making event where tech startups pitch to find experienced investors and supporters. The event language is English. Questions from the audience are also taken in French and German (and translated if necessary). &nbsp;
SUMMARY:37th SICTIC Investor Day @ Lugano
URL;VALUE=URI:https://www.sictic.ch/events/37/
TRANSP:OPAQUE
BEGIN:VALARM
ACTION:DISPLAY
TRIGGER;VALUE=DATE-TIME:20170608T161500
DESCRIPTION:Reminder for 37th SICTIC Investor Day @ Lugano
END:VALARM
END:VEVENT
END:VCALENDAR
