BEGIN:VCALENDAR
VERSION:2.0
PRODID:-//SICTIC //NONSGML Events //EN
CALSCALE:GREGORIAN
X-WR-CALNAME:SICTIC
BEGIN:VEVENT
CREATED:20180224T141848Z
UID:2148
DTEND:20171120T203000
DTSTART:20171120T161500
DTSTAMP:20260420T221226Z
LOCATION:Fusion Fintech\, Avenue de la Praille\, Carouge\, Geneva\, Switzerland
DESCRIPTION:The SICTIC Investor Day is a match making event where tech startups pitch to find experienced investors and supporters. The event language is English. Questions from the audience are also taken in French and German (and translated if necessary). &nbsp;
SUMMARY:45th SICTIC Investor Day @ Geneva
URL;VALUE=URI:https://www.sictic.ch/events/45/
TRANSP:OPAQUE
BEGIN:VALARM
ACTION:DISPLAY
TRIGGER;VALUE=DATE-TIME:20171120T161500
DESCRIPTION:Reminder for 45th SICTIC Investor Day @ Geneva
END:VALARM
END:VEVENT
END:VCALENDAR
