BEGIN:VCALENDAR
VERSION:2.0
PRODID:-//SICTIC //NONSGML Events //EN
CALSCALE:GREGORIAN
X-WR-CALNAME:SICTIC
BEGIN:VEVENT
CREATED:20210107T080838Z
UID:8626
DTEND:20210608T184500
DTSTART:20210608T160000
DTSTAMP:20260425T150025Z
LOCATION:
DESCRIPTION:The SICTIC Investor Day is a matchmaking event where tech startups pitch for funding in front of experienced investors and supporters: - Startups selected by the SICTIC expert jury will pitch for 90sec and three startups that get the most investor votes pitch in the second round for 5 min. -Startup with funding round currently in progress with SICTIC Investors will pitch together with committed investor, who will be giving...
SUMMARY:89th SICTIC Investor Day @ Ticino &#8211\; Online
URL;VALUE=URI:https://www.sictic.ch/events/89/
TRANSP:OPAQUE
BEGIN:VALARM
ACTION:DISPLAY
TRIGGER;VALUE=DATE-TIME:20210608T160000
DESCRIPTION:Reminder for 89th SICTIC Investor Day @ Ticino &#8211\; Online
END:VALARM
END:VEVENT
END:VCALENDAR
